BEGIN:VCALENDAR
VERSION:2.0
PRODID:-//Faithway Baptist Church - Brice Ohio - ECPv6.15.20//NONSGML v1.0//EN
CALSCALE:GREGORIAN
METHOD:PUBLISH
X-ORIGINAL-URL:https://faithwayoh.org
X-WR-CALDESC:Events for Faithway Baptist Church - Brice Ohio
REFRESH-INTERVAL;VALUE=DURATION:PT1H
X-Robots-Tag:noindex
X-PUBLISHED-TTL:PT1H
BEGIN:VTIMEZONE
TZID:America/New_York
BEGIN:DAYLIGHT
TZOFFSETFROM:-0500
TZOFFSETTO:-0400
TZNAME:EDT
DTSTART:20240310T070000
END:DAYLIGHT
BEGIN:STANDARD
TZOFFSETFROM:-0400
TZOFFSETTO:-0500
TZNAME:EST
DTSTART:20241103T060000
END:STANDARD
BEGIN:DAYLIGHT
TZOFFSETFROM:-0500
TZOFFSETTO:-0400
TZNAME:EDT
DTSTART:20250309T070000
END:DAYLIGHT
BEGIN:STANDARD
TZOFFSETFROM:-0400
TZOFFSETTO:-0500
TZNAME:EST
DTSTART:20251102T060000
END:STANDARD
BEGIN:DAYLIGHT
TZOFFSETFROM:-0500
TZOFFSETTO:-0400
TZNAME:EDT
DTSTART:20260308T070000
END:DAYLIGHT
BEGIN:STANDARD
TZOFFSETFROM:-0400
TZOFFSETTO:-0500
TZNAME:EST
DTSTART:20261101T060000
END:STANDARD
END:VTIMEZONE
BEGIN:VTIMEZONE
TZID:UTC
BEGIN:STANDARD
TZOFFSETFROM:+0000
TZOFFSETTO:+0000
TZNAME:UTC
DTSTART:20210101T000000
END:STANDARD
END:VTIMEZONE
BEGIN:VTIMEZONE
TZID:America/Halifax
BEGIN:DAYLIGHT
TZOFFSETFROM:-0400
TZOFFSETTO:-0300
TZNAME:ADT
DTSTART:20240310T060000
END:DAYLIGHT
BEGIN:STANDARD
TZOFFSETFROM:-0300
TZOFFSETTO:-0400
TZNAME:AST
DTSTART:20241103T050000
END:STANDARD
BEGIN:DAYLIGHT
TZOFFSETFROM:-0400
TZOFFSETTO:-0300
TZNAME:ADT
DTSTART:20250309T060000
END:DAYLIGHT
BEGIN:STANDARD
TZOFFSETFROM:-0300
TZOFFSETTO:-0400
TZNAME:AST
DTSTART:20251102T050000
END:STANDARD
BEGIN:DAYLIGHT
TZOFFSETFROM:-0400
TZOFFSETTO:-0300
TZNAME:ADT
DTSTART:20260308T060000
END:DAYLIGHT
BEGIN:STANDARD
TZOFFSETFROM:-0300
TZOFFSETTO:-0400
TZNAME:AST
DTSTART:20261101T050000
END:STANDARD
END:VTIMEZONE
BEGIN:VEVENT
DTSTART;TZID=America/New_York:20251224T190000
DTEND;TZID=America/New_York:20251224T203000
DTSTAMP:20260423T180352
CREATED:20250324T151827Z
LAST-MODIFIED:20250324T151827Z
UID:1791-1766602800-1766608200@faithwayoh.org
SUMMARY:CAROL’S NIGHT
DESCRIPTION:
URL:https://faithwayoh.org/event/carols-night/
CATEGORIES:Events,Xmas
ATTACH;FMTTYPE=:
END:VEVENT
BEGIN:VEVENT
DTSTART;TZID=UTC:20251215T080000
DTEND;TZID=UTC:20251221T170000
DTSTAMP:20260423T180352
CREATED:20250324T153237Z
LAST-MODIFIED:20250324T153237Z
UID:1818-1765785600-1766336400@faithwayoh.org
SUMMARY:MEN MINISTRY WEEK
DESCRIPTION:MEN’S MINISTRY WEEK
URL:https://faithwayoh.org/event/men-ministry-week/
CATEGORIES:Events
ATTACH;FMTTYPE=:
END:VEVENT
BEGIN:VEVENT
DTSTART;TZID=UTC:20251214T090000
DTEND;TZID=UTC:20251214T123000
DTSTAMP:20260423T180352
CREATED:20250324T155102Z
LAST-MODIFIED:20250324T155102Z
UID:1850-1765702800-1765715400@faithwayoh.org
SUMMARY:PASTOR’S APPRECIATION DAY
DESCRIPTION:PASTOR’S APPRECIATION DAY
URL:https://faithwayoh.org/event/pastors-appreciation-day/
CATEGORIES:Events
ATTACH;FMTTYPE=:
END:VEVENT
BEGIN:VEVENT
DTSTART;TZID=UTC:20251107T190000
DTEND;TZID=UTC:20251108T210000
DTSTAMP:20260423T180352
CREATED:20250324T153558Z
LAST-MODIFIED:20250324T153558Z
UID:1826-1762542000-1762635600@faithwayoh.org
SUMMARY:LEVITE WEEK
DESCRIPTION:LEVITE WEEK
URL:https://faithwayoh.org/event/levite-week/
CATEGORIES:Events
ATTACH;FMTTYPE=:
END:VEVENT
BEGIN:VEVENT
DTSTART;TZID=UTC:20251020T090000
DTEND;TZID=UTC:20251026T123000
DTSTAMP:20260423T180352
CREATED:20250324T153409Z
LAST-MODIFIED:20250324T153409Z
UID:1822-1760950800-1761481800@faithwayoh.org
SUMMARY:CHILDREN MINISTRY WEEK
DESCRIPTION:CHILDREN MINISTRY WEEK
URL:https://faithwayoh.org/event/children-ministry-week/
CATEGORIES:Events
ATTACH;FMTTYPE=:
END:VEVENT
BEGIN:VEVENT
DTSTART;TZID=UTC:20250908T180000
DTEND;TZID=UTC:20250913T203000
DTSTAMP:20260423T180352
CREATED:20250324T151255Z
LAST-MODIFIED:20250324T151255Z
UID:1765-1757354400-1757795400@faithwayoh.org
SUMMARY:DESTINY CONFERENCE
DESCRIPTION:DESTINY CONFERENCE (SEPTEMBER TO REMEMBER) \n(21 DAYS FASTING AND PRAYERS)
URL:https://faithwayoh.org/event/destiny-conference/
CATEGORIES:Conferences
ATTACH;FMTTYPE=:
END:VEVENT
BEGIN:VEVENT
DTSTART;TZID=UTC:20250815T090000
DTEND;TZID=UTC:20250817T123000
DTSTAMP:20260423T180352
CREATED:20250324T155652Z
LAST-MODIFIED:20250324T155652Z
UID:1865-1755248400-1755433800@faithwayoh.org
SUMMARY:YOUTH WEEK
DESCRIPTION:YOUTH WEEK
URL:https://faithwayoh.org/event/youth-week/
CATEGORIES:Events
ATTACH;FMTTYPE=:
END:VEVENT
BEGIN:VEVENT
DTSTART;TZID=UTC:20250803T090000
DTEND;TZID=UTC:20250803T123000
DTSTAMP:20260423T180352
CREATED:20250324T155506Z
LAST-MODIFIED:20250324T155506Z
UID:1860-1754211600-1754224200@faithwayoh.org
SUMMARY:TRADITIONAL DAY
DESCRIPTION:TRADITIONAL DAY
URL:https://faithwayoh.org/event/traditional-day/
CATEGORIES:Events
ATTACH;FMTTYPE=:
END:VEVENT
BEGIN:VEVENT
DTSTART;TZID=UTC:20250802T120000
DTEND;TZID=UTC:20250802T180000
DTSTAMP:20260423T180352
CREATED:20250324T155305Z
LAST-MODIFIED:20250324T155305Z
UID:1855-1754136000-1754157600@faithwayoh.org
SUMMARY:AGAPE FEAST
DESCRIPTION:AGAPE FEAST
URL:https://faithwayoh.org/event/agape-feast/
CATEGORIES:Events
ATTACH;FMTTYPE=:
END:VEVENT
BEGIN:VEVENT
DTSTART;TZID=UTC:20250725T180000
DTEND;TZID=UTC:20250727T203000
DTSTAMP:20260423T180352
CREATED:20250324T153116Z
LAST-MODIFIED:20250324T153116Z
UID:1814-1753466400-1753648200@faithwayoh.org
SUMMARY:WOMEN MINISTRY WEEK
DESCRIPTION:WOMEN’S MINISTRY WEEK
URL:https://faithwayoh.org/event/women-ministry-week/
CATEGORIES:Events
ATTACH;FMTTYPE=:
END:VEVENT
BEGIN:VEVENT
DTSTART;TZID=America/Halifax:20250615T090000
DTEND;TZID=America/Halifax:20250615T123000
DTSTAMP:20260423T180352
CREATED:20250324T154015Z
LAST-MODIFIED:20250324T154015Z
UID:1830-1749978000-1749990600@faithwayoh.org
SUMMARY:FATHER’S DAY
DESCRIPTION:FATHER’S DAY
URL:https://faithwayoh.org/event/fathers-day/
CATEGORIES:Events
ATTACH;FMTTYPE=:
END:VEVENT
BEGIN:VEVENT
DTSTART;TZID=UTC:20250511T090000
DTEND;TZID=UTC:20250511T123000
DTSTAMP:20260423T180352
CREATED:20250324T154142Z
LAST-MODIFIED:20250324T154142Z
UID:1846-1746954000-1746966600@faithwayoh.org
SUMMARY:MOTHER’S DAY
DESCRIPTION:MOTHER’S DAY
URL:https://faithwayoh.org/event/mothers-day/
CATEGORIES:Events
ATTACH;FMTTYPE=:
END:VEVENT
BEGIN:VEVENT
DTSTART;TZID=UTC:20250406T090000
DTEND;TZID=UTC:20250406T123000
DTSTAMP:20260423T180352
CREATED:20250324T152939Z
LAST-MODIFIED:20250324T152939Z
UID:1810-1743930000-1743942600@faithwayoh.org
SUMMARY:COMMUNION SERVICE
DESCRIPTION:COMMUNION SERVICE Every First Sunday
URL:https://faithwayoh.org/event/communion-service/
CATEGORIES:Monthly
END:VEVENT
BEGIN:VEVENT
DTSTART;TZID=UTC:20250404T190000
DTEND;TZID=UTC:20250404T203000
DTSTAMP:20260423T180352
CREATED:20250324T152716Z
LAST-MODIFIED:20250324T152716Z
UID:1806-1743793200-1743798600@faithwayoh.org
SUMMARY:Prayer Towers
DESCRIPTION:Weeklys – Fridays
URL:https://faithwayoh.org/event/prayer-towers/
CATEGORIES:Weeklys
ATTACH;FMTTYPE=:
END:VEVENT
BEGIN:VEVENT
DTSTART;TZID=America/Halifax:20250402T180000
DTEND;TZID=America/Halifax:20250402T203000
DTSTAMP:20260423T180352
CREATED:20250324T152544Z
LAST-MODIFIED:20250324T152544Z
UID:1802-1743616800-1743625800@faithwayoh.org
SUMMARY:MIRACLE SERVICE
DESCRIPTION:Weekly MIRACLE SERVICE
URL:https://faithwayoh.org/event/miracle-service/
CATEGORIES:Weeklys
ATTACH;FMTTYPE=:
END:VEVENT
BEGIN:VEVENT
DTSTART;TZID=UTC:20221209T080000
DTEND;TZID=UTC:20221209T170000
DTSTAMP:20260423T180352
CREATED:20210317T033125Z
LAST-MODIFIED:20210317T033125Z
UID:518-1670572800-1670605200@faithwayoh.org
SUMMARY:Play for the world with us
DESCRIPTION:Sed ut perspiciatis unde omnis iste natus error sit voluptatem accusantium doloremque laudantium\, totam rem aperiam\, eaque ipsa quae ab illo. \nSed ut perspiciatis unde omnis iste natus error sit voluptatem accusantium doloremque laudantium\, totam rem aperiam\, eaque ipsa quae ab illo inventore veritatis et quasi architecto beatae vitae dicta sunt explicabo. Nemo enim ipsam voluptatem quia voluptas sit aspernatur aut odit aut fugit\, sed quia consequuntur magni dolores eos qui ratione voluptatem sequi nesciunt.
URL:https://faithwayoh.org/event/play-for-the-world-with-us/
LOCATION:New York\, 8 King Street\, NY\, 101\, United States
ATTACH;FMTTYPE=image/jpeg:https://faithwayoh.org/wp-content/uploads/2021/03/event-6.jpg
ORGANIZER;CN="Gary Jones":MAILTO:halpes@example.com
END:VEVENT
BEGIN:VEVENT
DTSTART;TZID=UTC:20221209T080000
DTEND;TZID=UTC:20221209T170000
DTSTAMP:20260423T180352
CREATED:20210317T033032Z
LAST-MODIFIED:20210317T033032Z
UID:515-1670572800-1670605200@faithwayoh.org
SUMMARY:Fight for right cause
DESCRIPTION:Sed ut perspiciatis unde omnis iste natus error sit voluptatem accusantium doloremque laudantium\, totam rem aperiam\, eaque ipsa quae ab illo. \nSed ut perspiciatis unde omnis iste natus error sit voluptatem accusantium doloremque laudantium\, totam rem aperiam\, eaque ipsa quae ab illo inventore veritatis et quasi architecto beatae vitae dicta sunt explicabo. Nemo enim ipsam voluptatem quia voluptas sit aspernatur aut odit aut fugit\, sed quia consequuntur magni dolores eos qui ratione voluptatem sequi nesciunt.
URL:https://faithwayoh.org/event/fight-for-right-cause/
LOCATION:New York\, 8 King Street\, NY\, 101\, United States
CATEGORIES:Seminars
ATTACH;FMTTYPE=image/jpeg:https://faithwayoh.org/wp-content/uploads/2021/03/event-5.jpg
ORGANIZER;CN="Gary Jones":MAILTO:halpes@example.com
END:VEVENT
BEGIN:VEVENT
DTSTART;TZID=UTC:20221209T080000
DTEND;TZID=UTC:20221209T170000
DTSTAMP:20260423T180352
CREATED:20210304T031301Z
LAST-MODIFIED:20210304T031301Z
UID:448-1670572800-1670605200@faithwayoh.org
SUMMARY:Organise your fundraiser
DESCRIPTION:Sed ut perspiciatis unde omnis iste natus error sit voluptatem accusantium doloremque laudantium\, totam rem aperiam\, eaque ipsa quae ab illo. \nSed ut perspiciatis unde omnis iste natus error sit voluptatem accusantium doloremque laudantium\, totam rem aperiam\, eaque ipsa quae ab illo inventore veritatis et quasi architecto beatae vitae dicta sunt explicabo. Nemo enim ipsam voluptatem quia voluptas sit aspernatur aut odit aut fugit\, sed quia consequuntur magni dolores eos qui ratione voluptatem sequi nesciunt.
URL:https://faithwayoh.org/event/organise-your-fundraiser/
LOCATION:New York\, 8 King Street\, NY\, 101\, United States
CATEGORIES:Seminars
ATTACH;FMTTYPE=image/jpeg:https://faithwayoh.org/wp-content/uploads/2021/03/event-2.jpg
ORGANIZER;CN="Gary Jones":MAILTO:halpes@example.com
END:VEVENT
BEGIN:VEVENT
DTSTART;TZID=UTC:20221209T080000
DTEND;TZID=UTC:20221209T170000
DTSTAMP:20260423T180352
CREATED:20210304T031217Z
LAST-MODIFIED:20210304T031217Z
UID:447-1670572800-1670605200@faithwayoh.org
SUMMARY:One-Day Online Fundraiser
DESCRIPTION:Sed ut perspiciatis unde omnis iste natus error sit voluptatem accusantium doloremque laudantium\, totam rem aperiam\, eaque ipsa quae ab illo. \nSed ut perspiciatis unde omnis iste natus error sit voluptatem accusantium doloremque laudantium\, totam rem aperiam\, eaque ipsa quae ab illo inventore veritatis et quasi architecto beatae vitae dicta sunt explicabo. Nemo enim ipsam voluptatem quia voluptas sit aspernatur aut odit aut fugit\, sed quia consequuntur magni dolores eos qui ratione voluptatem sequi nesciunt.
URL:https://faithwayoh.org/event/one-day-online-fundraiser/
LOCATION:New York\, 8 King Street\, NY\, 101\, United States
CATEGORIES:Seminars
ATTACH;FMTTYPE=image/jpeg:https://faithwayoh.org/wp-content/uploads/2021/03/event-3.jpg
ORGANIZER;CN="Gary Jones":MAILTO:halpes@example.com
END:VEVENT
BEGIN:VEVENT
DTSTART;TZID=UTC:20221209T080000
DTEND;TZID=UTC:20221209T170000
DTSTAMP:20260423T180352
CREATED:20210304T031114Z
LAST-MODIFIED:20210304T031114Z
UID:446-1670572800-1670605200@faithwayoh.org
SUMMARY:Fundraising at schools
DESCRIPTION:Sed ut perspiciatis unde omnis iste natus error sit voluptatem accusantium doloremque laudantium\, totam rem aperiam\, eaque ipsa quae ab illo. \nSed ut perspiciatis unde omnis iste natus error sit voluptatem accusantium doloremque laudantium\, totam rem aperiam\, eaque ipsa quae ab illo inventore veritatis et quasi architecto beatae vitae dicta sunt explicabo. Nemo enim ipsam voluptatem quia voluptas sit aspernatur aut odit aut fugit\, sed quia consequuntur magni dolores eos qui ratione voluptatem sequi nesciunt.
URL:https://faithwayoh.org/event/fundraising-at-schools/
LOCATION:New York\, 8 King Street\, NY\, 101\, United States
CATEGORIES:Seminars
ATTACH;FMTTYPE=image/jpeg:https://faithwayoh.org/wp-content/uploads/2021/03/event-1.jpg
ORGANIZER;CN="Gary Jones":MAILTO:halpes@example.com
END:VEVENT
BEGIN:VEVENT
DTSTART;TZID=UTC:20221209T000000
DTEND;TZID=UTC:20221209T000000
DTSTAMP:20260423T180352
CREATED:20210304T030315Z
LAST-MODIFIED:20210304T030315Z
UID:440-1670544000-1670544000@faithwayoh.org
SUMMARY:Protect eco system
DESCRIPTION:Sed ut perspiciatis unde omnis iste natus error sit voluptatem accusantium doloremque laudantium\, totam rem aperiam\, eaque ipsa quae ab illo. \nSed ut perspiciatis unde omnis iste natus error sit voluptatem accusantium doloremque laudantium\, totam rem aperiam\, eaque ipsa quae ab illo inventore veritatis et quasi architecto beatae vitae dicta sunt explicabo. Nemo enim ipsam voluptatem quia voluptas sit aspernatur aut odit aut fugit\, sed quia consequuntur magni dolores eos qui ratione voluptatem sequi nesciunt.
URL:https://faithwayoh.org/event/protect-eco-system/
LOCATION:New York\, 8 King Street\, NY\, 101\, United States
CATEGORIES:Seminars
ATTACH;FMTTYPE=image/jpeg:https://faithwayoh.org/wp-content/uploads/2021/03/event-4.jpg
ORGANIZER;CN="Gary Jones":MAILTO:halpes@example.com
END:VEVENT
END:VCALENDAR