BEGIN:VCALENDAR
VERSION:2.0
PRODID:-//Faithway Baptist Church - Brice Ohio - ECPv6.15.20//NONSGML v1.0//EN
CALSCALE:GREGORIAN
METHOD:PUBLISH
X-WR-CALNAME:Faithway Baptist Church - Brice Ohio
X-ORIGINAL-URL:https://faithwayoh.org
X-WR-CALDESC:Events for Faithway Baptist Church - Brice Ohio
REFRESH-INTERVAL;VALUE=DURATION:PT1H
X-Robots-Tag:noindex
X-PUBLISHED-TTL:PT1H
BEGIN:VTIMEZONE
TZID:UTC
BEGIN:STANDARD
TZOFFSETFROM:+0000
TZOFFSETTO:+0000
TZNAME:UTC
DTSTART:20240101T000000
END:STANDARD
END:VTIMEZONE
BEGIN:VTIMEZONE
TZID:America/Halifax
BEGIN:DAYLIGHT
TZOFFSETFROM:-0400
TZOFFSETTO:-0300
TZNAME:ADT
DTSTART:20240310T060000
END:DAYLIGHT
BEGIN:STANDARD
TZOFFSETFROM:-0300
TZOFFSETTO:-0400
TZNAME:AST
DTSTART:20241103T050000
END:STANDARD
BEGIN:DAYLIGHT
TZOFFSETFROM:-0400
TZOFFSETTO:-0300
TZNAME:ADT
DTSTART:20250309T060000
END:DAYLIGHT
BEGIN:STANDARD
TZOFFSETFROM:-0300
TZOFFSETTO:-0400
TZNAME:AST
DTSTART:20251102T050000
END:STANDARD
BEGIN:DAYLIGHT
TZOFFSETFROM:-0400
TZOFFSETTO:-0300
TZNAME:ADT
DTSTART:20260308T060000
END:DAYLIGHT
BEGIN:STANDARD
TZOFFSETFROM:-0300
TZOFFSETTO:-0400
TZNAME:AST
DTSTART:20261101T050000
END:STANDARD
END:VTIMEZONE
BEGIN:VEVENT
DTSTART;TZID=UTC:20250404T190000
DTEND;TZID=UTC:20250404T203000
DTSTAMP:20260423T221542
CREATED:20250324T152716Z
LAST-MODIFIED:20250324T152716Z
UID:1806-1743793200-1743798600@faithwayoh.org
SUMMARY:Prayer Towers
DESCRIPTION:Weeklys – Fridays
URL:https://faithwayoh.org/event/prayer-towers/
CATEGORIES:Weeklys
ATTACH;FMTTYPE=:
END:VEVENT
BEGIN:VEVENT
DTSTART;TZID=America/Halifax:20250402T180000
DTEND;TZID=America/Halifax:20250402T203000
DTSTAMP:20260423T221542
CREATED:20250324T152544Z
LAST-MODIFIED:20250324T152544Z
UID:1802-1743616800-1743625800@faithwayoh.org
SUMMARY:MIRACLE SERVICE
DESCRIPTION:Weekly MIRACLE SERVICE
URL:https://faithwayoh.org/event/miracle-service/
CATEGORIES:Weeklys
ATTACH;FMTTYPE=:
END:VEVENT
END:VCALENDAR