BEGIN:VCALENDAR
VERSION:2.0
PRODID:-//Faithway Baptist Church - Brice Ohio - ECPv6.15.20//NONSGML v1.0//EN
CALSCALE:GREGORIAN
METHOD:PUBLISH
X-WR-CALNAME:Faithway Baptist Church - Brice Ohio
X-ORIGINAL-URL:https://faithwayoh.org
X-WR-CALDESC:Events for Faithway Baptist Church - Brice Ohio
REFRESH-INTERVAL;VALUE=DURATION:PT1H
X-Robots-Tag:noindex
X-PUBLISHED-TTL:PT1H
BEGIN:VTIMEZONE
TZID:UTC
BEGIN:STANDARD
TZOFFSETFROM:+0000
TZOFFSETTO:+0000
TZNAME:UTC
DTSTART:20240101T000000
END:STANDARD
END:VTIMEZONE
BEGIN:VEVENT
DTSTART;TZID=UTC:20250908T180000
DTEND;TZID=UTC:20250913T203000
DTSTAMP:20260423T192024
CREATED:20250324T151255Z
LAST-MODIFIED:20250324T151255Z
UID:1765-1757354400-1757795400@faithwayoh.org
SUMMARY:DESTINY CONFERENCE
DESCRIPTION:DESTINY CONFERENCE (SEPTEMBER TO REMEMBER) \n(21 DAYS FASTING AND PRAYERS)
URL:https://faithwayoh.org/event/destiny-conference/
CATEGORIES:Conferences
ATTACH;FMTTYPE=:
END:VEVENT
END:VCALENDAR